BEGIN:VCALENDAR
VERSION:2.0
PRODID:-//The Pearls - ECPv4.6.8//NONSGML v1.0//EN
CALSCALE:GREGORIAN
METHOD:PUBLISH
X-WR-CALNAME:The Pearls
X-ORIGINAL-URL:https://thepearls.band
X-WR-CALDESC:Events for The Pearls
BEGIN:VEVENT
DTSTART;TZID=UTC-8:20180712T190000
DTEND;TZID=UTC-8:20180712T220000
DTSTAMP:20260423T180025
CREATED:20180415T013922Z
LAST-MODIFIED:20180415T013922Z
UID:685-1531422000-1531432800@thepearls.band
SUMMARY:White Eagle Saloon - Portland\, OR
DESCRIPTION:
URL:https://thepearls.band/event/white-eagle-saloon-portland-or-2/
LOCATION:836 N Russell St\, Portland\, OR\, 97227\, United States
END:VEVENT
END:VCALENDAR