BEGIN:VCALENDAR
VERSION:2.0
PRODID:-//The Pearls - ECPv4.6.8//NONSGML v1.0//EN
CALSCALE:GREGORIAN
METHOD:PUBLISH
X-WR-CALNAME:The Pearls
X-ORIGINAL-URL:https://thepearls.band
X-WR-CALDESC:Events for The Pearls
BEGIN:VEVENT
DTSTART;TZID=UTC-8:20170217T130000
DTEND;TZID=UTC-8:20170217T130000
DTSTAMP:20260423T210644
CREATED:20170122T035338Z
LAST-MODIFIED:20170122T041355Z
UID:486-1487336400-1487336400@thepearls.band
SUMMARY:The Valley (Tacoma\, WA)
DESCRIPTION:
URL:https://thepearls.band/event/the-valley-tacoma-wa/
END:VEVENT
END:VCALENDAR