BEGIN:VCALENDAR
VERSION:2.0
PRODID:-//The Pearls - ECPv4.6.8//NONSGML v1.0//EN
CALSCALE:GREGORIAN
METHOD:PUBLISH
X-WR-CALNAME:The Pearls
X-ORIGINAL-URL:https://thepearls.band
X-WR-CALDESC:Events for The Pearls
BEGIN:VEVENT
DTSTART;TZID=UTC-8:20180309T210000
DTEND;TZID=UTC-8:20180309T230000
DTSTAMP:20260423T180133
CREATED:20180227T080429Z
LAST-MODIFIED:20180227T080528Z
UID:663-1520629200-1520636400@thepearls.band
SUMMARY:The Valley\, Tacoma WA
DESCRIPTION:
URL:https://thepearls.band/event/the-valley-tacoma-wa-2/
LOCATION:1206 Puyallup Ave\, Tacoma\, WA\, 98421\, United States
END:VEVENT
END:VCALENDAR