BEGIN:VCALENDAR
VERSION:2.0
PRODID:-//The Pearls - ECPv4.6.8//NONSGML v1.0//EN
CALSCALE:GREGORIAN
METHOD:PUBLISH
X-WR-CALNAME:The Pearls
X-ORIGINAL-URL:https://thepearls.band
X-WR-CALDESC:Events for The Pearls
BEGIN:VEVENT
DTSTART;TZID=UTC-8:20170414T130000
DTEND;TZID=UTC-8:20170414T130000
DTSTAMP:20260423T193249
CREATED:20170122T035401Z
LAST-MODIFIED:20170122T035953Z
UID:501-1492174800-1492174800@thepearls.band
SUMMARY:The Swiss (Tacoma\, WA)
DESCRIPTION:
URL:https://thepearls.band/event/the-swiss-tacoma-wa/
LOCATION:1904 Jefferson Ave\, Tacoma\, Wa\, 98402
END:VEVENT
END:VCALENDAR