BEGIN:VCALENDAR
VERSION:2.0
PRODID:-//The Pearls - ECPv4.6.8//NONSGML v1.0//EN
CALSCALE:GREGORIAN
METHOD:PUBLISH
X-WR-CALNAME:The Pearls
X-ORIGINAL-URL:https://thepearls.band
X-WR-CALDESC:Events for The Pearls
BEGIN:VEVENT
DTSTART;TZID=UTC-8:20180104T080000
DTEND;TZID=UTC-8:20180129T000000
DTSTAMP:20260423T180132
CREATED:20180109T222812Z
LAST-MODIFIED:20180109T222812Z
UID:658-1515052800-1517184000@thepearls.band
SUMMARY:The Pearls Tour Belgium & the Netherlands
DESCRIPTION: \n
URL:https://thepearls.band/event/the-pearls-tour-belgium-the-netherlands/
END:VEVENT
END:VCALENDAR