BEGIN:VCALENDAR
VERSION:2.0
PRODID:-//The Pearls - ECPv4.6.8//NONSGML v1.0//EN
CALSCALE:GREGORIAN
METHOD:PUBLISH
X-WR-CALNAME:The Pearls
X-ORIGINAL-URL:https://thepearls.band
X-WR-CALDESC:Events for The Pearls
BEGIN:VEVENT
DTSTART;TZID=UTC-8:20180908T210000
DTEND;TZID=UTC-8:20180908T230000
DTSTAMP:20260423T180026
CREATED:20180730T233538Z
LAST-MODIFIED:20180730T233538Z
UID:706-1536440400-1536447600@thepearls.band
SUMMARY:The Maltese (Chico\, CA)
DESCRIPTION:
URL:https://thepearls.band/event/the-maltese-chico-ca-2/
LOCATION:1600 Park Ave\, Chico\, CA\, 95928\, United States
END:VEVENT
END:VCALENDAR