BEGIN:VCALENDAR
VERSION:2.0
PRODID:-//The Pearls - ECPv4.6.8//NONSGML v1.0//EN
CALSCALE:GREGORIAN
METHOD:PUBLISH
X-WR-CALNAME:The Pearls
X-ORIGINAL-URL:https://thepearls.band
X-WR-CALDESC:Events for The Pearls
BEGIN:VEVENT
DTSTART;TZID=UTC-8:20170228T130000
DTEND;TZID=UTC-8:20170228T130000
DTSTAMP:20260423T193250
CREATED:20170122T035349Z
LAST-MODIFIED:20170122T040827Z
UID:494-1488286800-1488286800@thepearls.band
SUMMARY:The Hideaway (Sacramento\, CA)
DESCRIPTION:
URL:https://thepearls.band/event/the-hideaway-sacramento-ca/
END:VEVENT
END:VCALENDAR