BEGIN:VCALENDAR
VERSION:2.0
PRODID:-//The Pearls - ECPv4.6.8//NONSGML v1.0//EN
CALSCALE:GREGORIAN
METHOD:PUBLISH
X-WR-CALNAME:The Pearls
X-ORIGINAL-URL:https://thepearls.band
X-WR-CALDESC:Events for The Pearls
BEGIN:VEVENT
DTSTART;TZID=UTC-8:20171209T210000
DTEND;TZID=UTC-8:20171209T230000
DTSTAMP:20260423T193249
CREATED:20171130T003254Z
LAST-MODIFIED:20171130T003254Z
UID:653-1512853200-1512860400@thepearls.band
SUMMARY:The Grocery Cocktail and Social - Vancouver\, Wa.
DESCRIPTION:
URL:https://thepearls.band/event/the-grocery-cocktail-and-social-vancouver-wa/
LOCATION:115 W 7th St\, Vancouver\, WA\, 98660\, United States
END:VEVENT
END:VCALENDAR