BEGIN:VCALENDAR
VERSION:2.0
PRODID:-//The Pearls - ECPv4.6.8//NONSGML v1.0//EN
CALSCALE:GREGORIAN
METHOD:PUBLISH
X-WR-CALNAME:The Pearls
X-ORIGINAL-URL:https://thepearls.band
X-WR-CALDESC:Events for The Pearls
BEGIN:VEVENT
DTSTART;TZID=UTC-8:20170713T203000
DTEND;TZID=UTC-8:20170713T230000
DTSTAMP:20260423T194104
CREATED:20170411T081844Z
LAST-MODIFIED:20170411T081844Z
UID:551-1499977800-1499986800@thepearls.band
SUMMARY:The Grocery *Buck's Birthday Bash!* (Vancouver\, WA)
DESCRIPTION:
URL:https://thepearls.band/event/the-grocery-bucks-birthday-bash-vancouver-wa/
END:VEVENT
END:VCALENDAR