BEGIN:VCALENDAR
VERSION:2.0
PRODID:-//The Pearls - ECPv4.6.8//NONSGML v1.0//EN
CALSCALE:GREGORIAN
METHOD:PUBLISH
X-WR-CALNAME:The Pearls
X-ORIGINAL-URL:https://thepearls.band
X-WR-CALDESC:Events for The Pearls
BEGIN:VEVENT
DTSTART;TZID=UTC-8:20170219T133000
DTEND;TZID=UTC-8:20170219T133000
DTSTAMP:20260423T210644
CREATED:20170122T035341Z
LAST-MODIFIED:20170122T041251Z
UID:488-1487511000-1487511000@thepearls.band
SUMMARY:The Green Frog (Bellingham\, WA)
DESCRIPTION:
URL:https://thepearls.band/event/the-green-frog-bellingham-wa/
END:VEVENT
END:VCALENDAR