BEGIN:VCALENDAR
VERSION:2.0
PRODID:-//The Pearls - ECPv4.6.8//NONSGML v1.0//EN
CALSCALE:GREGORIAN
METHOD:PUBLISH
X-WR-CALNAME:The Pearls
X-ORIGINAL-URL:https://thepearls.band
X-WR-CALDESC:Events for The Pearls
BEGIN:VEVENT
DTSTART;TZID=UTC-8:20180316T210000
DTEND;TZID=UTC-8:20180316T220000
DTSTAMP:20260423T180027
CREATED:20180227T080811Z
LAST-MODIFIED:20180227T080908Z
UID:665-1521234000-1521237600@thepearls.band
SUMMARY:The Fixin' Too\, Portland OR
DESCRIPTION:
URL:https://thepearls.band/event/the-fixin-too/
LOCATION:8218 N Lombard St\, Portland\, OR\, 97203\, United States
END:VEVENT
END:VCALENDAR