BEGIN:VCALENDAR
VERSION:2.0
PRODID:-//The Pearls - ECPv4.6.8//NONSGML v1.0//EN
CALSCALE:GREGORIAN
METHOD:PUBLISH
X-WR-CALNAME:The Pearls
X-ORIGINAL-URL:https://thepearls.band
X-WR-CALDESC:Events for The Pearls
BEGIN:VEVENT
DTSTART;TZID=UTC-8:20180907T210000
DTEND;TZID=UTC-8:20180907T230000
DTSTAMP:20260423T180006
CREATED:20180730T233221Z
LAST-MODIFIED:20180730T233221Z
UID:704-1536354000-1536361200@thepearls.band
SUMMARY:The Dip (Redding\, CA)
DESCRIPTION:
URL:https://thepearls.band/event/the-dip-redding-ca-3/
LOCATION:1730 California St.\, Redding\, CA\, 96001\, United States
END:VEVENT
END:VCALENDAR