BEGIN:VCALENDAR
VERSION:2.0
PRODID:-//The Pearls - ECPv4.6.8//NONSGML v1.0//EN
CALSCALE:GREGORIAN
METHOD:PUBLISH
X-WR-CALNAME:The Pearls
X-ORIGINAL-URL:https://thepearls.band
X-WR-CALDESC:Events for The Pearls
BEGIN:VEVENT
DTSTART;TZID=UTC-8:20170923T210000
DTEND;TZID=UTC-8:20170923T233000
DTSTAMP:20260423T193219
CREATED:20170801T013702Z
LAST-MODIFIED:20170801T013702Z
UID:585-1506200400-1506209400@thepearls.band
SUMMARY:The Dip (Redding\, Ca.)
DESCRIPTION:
URL:https://thepearls.band/event/the-dip-redding-ca-2/
LOCATION:1730 California St.\, Redding\, CA\, 96001\, United States
END:VEVENT
END:VCALENDAR