BEGIN:VCALENDAR
VERSION:2.0
PRODID:-//The Pearls - ECPv4.6.8//NONSGML v1.0//EN
CALSCALE:GREGORIAN
METHOD:PUBLISH
X-WR-CALNAME:The Pearls
X-ORIGINAL-URL:https://thepearls.band
X-WR-CALDESC:Events for The Pearls
BEGIN:VEVENT
DTSTART;TZID=UTC-8:20180913T200000
DTEND;TZID=UTC-8:20180913T230000
DTSTAMP:20260423T180025
CREATED:20180730T235026Z
LAST-MODIFIED:20180730T235026Z
UID:718-1536868800-1536879600@thepearls.band
SUMMARY:The Back Room (Berkeley\, CA) w/ Tom Rhodes
DESCRIPTION:
URL:https://thepearls.band/event/the-back-room-berkeley-ca-w-tom-rhodes/
LOCATION:1984 Bonita Ave\, Berkeley\, CA\, 94704\, United States
END:VEVENT
END:VCALENDAR