BEGIN:VCALENDAR
VERSION:2.0
PRODID:-//The Pearls - ECPv4.6.8//NONSGML v1.0//EN
CALSCALE:GREGORIAN
METHOD:PUBLISH
X-WR-CALNAME:The Pearls
X-ORIGINAL-URL:https://thepearls.band
X-WR-CALDESC:Events for The Pearls
BEGIN:VEVENT
DTSTART;TZID=UTC-8:20170528T160000
DTEND;TZID=UTC-8:20170528T170000
DTSTAMP:20260423T193249
CREATED:20170411T080837Z
LAST-MODIFIED:20170411T080927Z
UID:543-1495987200-1495990800@thepearls.band
SUMMARY:Northwest Folklife Festival (Seattle\, WA)
DESCRIPTION:
URL:https://thepearls.band/event/northwest-folk-life-festival-seattle-wa/
END:VEVENT
END:VCALENDAR