BEGIN:VCALENDAR
VERSION:2.0
PRODID:-//The Pearls - ECPv4.6.8//NONSGML v1.0//EN
CALSCALE:GREGORIAN
METHOD:PUBLISH
X-WR-CALNAME:The Pearls
X-ORIGINAL-URL:https://thepearls.band
X-WR-CALDESC:Events for The Pearls
BEGIN:VEVENT
DTSTART;TZID=UTC-8:20170930T210000
DTEND;TZID=UTC-8:20170930T233000
DTSTAMP:20260423T194058
CREATED:20170801T020727Z
LAST-MODIFIED:20170801T020727Z
UID:598-1506805200-1506814200@thepearls.band
SUMMARY:Neck Of The Woods
DESCRIPTION:
URL:https://thepearls.band/event/neck-of-the-woods/
LOCATION:406 Clement St.\, San Francisco\, CA\, 94118\, United States
END:VEVENT
END:VCALENDAR