BEGIN:VCALENDAR
VERSION:2.0
PRODID:-//The Pearls - ECPv4.6.8//NONSGML v1.0//EN
CALSCALE:GREGORIAN
METHOD:PUBLISH
X-WR-CALNAME:The Pearls
X-ORIGINAL-URL:https://thepearls.band
X-WR-CALDESC:Events for The Pearls
BEGIN:VEVENT
DTSTART;TZID=UTC-8:20170303T130000
DTEND;TZID=UTC-8:20170303T130000
DTSTAMP:20260423T193249
CREATED:20170122T035351Z
LAST-MODIFIED:20170122T040745Z
UID:495-1488546000-1488546000@thepearls.band
SUMMARY:Neck Of The Woods (San Francisco\, CA)
DESCRIPTION:
URL:https://thepearls.band/event/neck-of-the-woods-san-francisco-ca/
END:VEVENT
END:VCALENDAR