BEGIN:VCALENDAR
VERSION:2.0
PRODID:-//The Pearls - ECPv4.6.8//NONSGML v1.0//EN
CALSCALE:GREGORIAN
METHOD:PUBLISH
X-WR-CALNAME:The Pearls
X-ORIGINAL-URL:https://thepearls.band
X-WR-CALDESC:Events for The Pearls
BEGIN:VEVENT
DTSTART;TZID=UTC-8:20180705T190000
DTEND;TZID=UTC-8:20180705T203000
DTSTAMP:20260423T180132
CREATED:20180706T050922Z
LAST-MODIFIED:20180706T050922Z
UID:693-1530817200-1530822600@thepearls.band
SUMMARY:McMinnville Summer Concert Series
DESCRIPTION:
URL:https://thepearls.band/event/mcminnville-summer-concert-series/
LOCATION:900 SE Baker St\, McMinnville\, OR\, 97128\,\, United States
END:VEVENT
END:VCALENDAR