BEGIN:VCALENDAR
VERSION:2.0
PRODID:-//The Pearls - ECPv4.6.8//NONSGML v1.0//EN
CALSCALE:GREGORIAN
METHOD:PUBLISH
X-WR-CALNAME:The Pearls
X-ORIGINAL-URL:https://thepearls.band
X-WR-CALDESC:Events for The Pearls
BEGIN:VEVENT
DTSTART;TZID=UTC-8:20170808T190000
DTEND;TZID=UTC-8:20170808T210000
DTSTAMP:20260423T194104
CREATED:20170411T082145Z
LAST-MODIFIED:20170411T082145Z
UID:553-1502218800-1502226000@thepearls.band
SUMMARY:McMinnville Summer Concert Series (McMinnville\, OR)
DESCRIPTION:
URL:https://thepearls.band/event/mcminnville-summer-concert-series-mcminnville-or/
END:VEVENT
END:VCALENDAR