BEGIN:VCALENDAR
VERSION:2.0
PRODID:-//The Pearls - ECPv4.6.8//NONSGML v1.0//EN
CALSCALE:GREGORIAN
METHOD:PUBLISH
X-WR-CALNAME:The Pearls
X-ORIGINAL-URL:https://thepearls.band
X-WR-CALDESC:Events for The Pearls
BEGIN:VEVENT
DTSTART;TZID=UTC-8:20180331T210000
DTEND;TZID=UTC-8:20180401T000000
DTSTAMP:20260423T180132
CREATED:20180227T081551Z
LAST-MODIFIED:20180227T081551Z
UID:669-1522530000-1522540800@thepearls.band
SUMMARY:Laurelthirst Public House\, Portland OR
DESCRIPTION:
URL:https://thepearls.band/event/laurelthirst-public-house-portland-or/
LOCATION:2958 NE Glisan St\, Portland\, OR\, 97232\, United States
END:VEVENT
END:VCALENDAR