BEGIN:VCALENDAR
VERSION:2.0
PRODID:-//The Pearls - ECPv4.6.8//NONSGML v1.0//EN
CALSCALE:GREGORIAN
METHOD:PUBLISH
X-WR-CALNAME:The Pearls
X-ORIGINAL-URL:https://thepearls.band
X-WR-CALDESC:Events for The Pearls
BEGIN:VEVENT
DTSTART;TZID=UTC-8:20170924T170000
DTEND;TZID=UTC-8:20170924T200000
DTSTAMP:20260423T193217
CREATED:20170801T014107Z
LAST-MODIFIED:20170801T014107Z
UID:588-1506272400-1506283200@thepearls.band
SUMMARY:House Show (Folsom\, Ca.)
DESCRIPTION:House Show at our friends Chris and Jodie Rollens. Donation at door \n
URL:https://thepearls.band/event/house-show-folsom-ca/
LOCATION:116 Conductor Way\, Folsom\, CA\, 95630\, United States
END:VEVENT
END:VCALENDAR