BEGIN:VCALENDAR
VERSION:2.0
PRODID:-//The Pearls - ECPv4.6.8//NONSGML v1.0//EN
CALSCALE:GREGORIAN
METHOD:PUBLISH
X-WR-CALNAME:The Pearls
X-ORIGINAL-URL:https://thepearls.band
X-WR-CALDESC:Events for The Pearls
BEGIN:VEVENT
DTSTART;TZID=UTC-8:20180506T160000
DTEND;TZID=UTC-8:20180506T170000
DTSTAMP:20260423T180132
CREATED:20180415T012445Z
LAST-MODIFIED:20180415T012445Z
UID:677-1525622400-1525626000@thepearls.band
SUMMARY:Great Scott Animal Sanctuary - Manteca\, CA (Trio Show)
DESCRIPTION:Come hangout and enjoy all the adorable farm animals and listen to some fun tunes! \n
URL:https://thepearls.band/event/great-scott-animal-sanctuary-manteca-ca-trio-show/
LOCATION:15167 S. Airport Way\, Manteca\, CA\, 95336\, United States
END:VEVENT
END:VCALENDAR