BEGIN:VCALENDAR
VERSION:2.0
PRODID:-//The Pearls - ECPv4.6.8//NONSGML v1.0//EN
CALSCALE:GREGORIAN
METHOD:PUBLISH
X-WR-CALNAME:The Pearls
X-ORIGINAL-URL:https://thepearls.band
X-WR-CALDESC:Events for The Pearls
BEGIN:VEVENT
DTSTART;TZID=UTC-8:20170609T200000
DTEND;TZID=UTC-8:20170609T220000
DTSTAMP:20260423T193217
CREATED:20170411T081225Z
LAST-MODIFIED:20170411T081225Z
UID:547-1497038400-1497045600@thepearls.band
SUMMARY:Frontier (Vancouver\, WA)
DESCRIPTION:
URL:https://thepearls.band/event/frontier-vancouver-wa/
END:VEVENT
END:VCALENDAR