BEGIN:VCALENDAR
VERSION:2.0
PRODID:-//The Pearls - ECPv4.6.8//NONSGML v1.0//EN
CALSCALE:GREGORIAN
METHOD:PUBLISH
X-WR-CALNAME:The Pearls
X-ORIGINAL-URL:https://thepearls.band
X-WR-CALDESC:Events for The Pearls
BEGIN:VEVENT
DTSTART;TZID=UTC-8:20170221T130000
DTEND;TZID=UTC-8:20170221T130000
DTSTAMP:20260423T210544
CREATED:20170122T035343Z
LAST-MODIFIED:20170122T041157Z
UID:490-1487682000-1487682000@thepearls.band
SUMMARY:Conor Byrne (Seattle\, WA)
DESCRIPTION:With Country Lips \n  \n
URL:https://thepearls.band/event/conor-byrne-seattle-wa/
END:VEVENT
END:VCALENDAR