BEGIN:VCALENDAR
VERSION:2.0
PRODID:-//The Pearls - ECPv4.6.8//NONSGML v1.0//EN
CALSCALE:GREGORIAN
METHOD:PUBLISH
X-WR-CALNAME:The Pearls
X-ORIGINAL-URL:https://thepearls.band
X-WR-CALDESC:Events for The Pearls
BEGIN:VEVENT
DTSTART;TZID=UTC-8:20170917T200000
DTEND;TZID=UTC-8:20170917T230000
DTSTAMP:20260423T193249
CREATED:20170801T012635Z
LAST-MODIFIED:20170801T013113Z
UID:576-1505678400-1505689200@thepearls.band
SUMMARY:Cellar Door (Port Townsend\, Wa.)
DESCRIPTION:with The Hasslers \n
URL:https://thepearls.band/event/cellar-door-port-townsend-wa-2/
END:VEVENT
END:VCALENDAR